BEGIN:VCALENDAR
VERSION:2.0
PRODID:-//University of Liberia - ECPv5.8.1//NONSGML v1.0//EN
CALSCALE:GREGORIAN
METHOD:PUBLISH
X-WR-CALNAME:University of Liberia
X-ORIGINAL-URL:https://ul.edu.lr
X-WR-CALDESC:Events for University of Liberia
BEGIN:VTIMEZONE
TZID:UTC
BEGIN:STANDARD
TZOFFSETFROM:+0000
TZOFFSETTO:+0000
TZNAME:UTC
DTSTART:20190101T000000
END:STANDARD
END:VTIMEZONE
BEGIN:VEVENT
DTSTART;VALUE=DATE:20190627
DTEND;VALUE=DATE:20190628
DTSTAMP:20210817T125135
CREATED:20190627T145256Z
LAST-MODIFIED:20190627T145409Z
UID:12674-1561593600-1561679999@ul.edu.lr
SUMMARY:Honor Students to Meet US Assistant Secretary for Education and Cultural Affairs Marie Royce
DESCRIPTION:
URL:https://ul.edu.lr/event/honor-students-to-meet-us-assistant-secretary-for-education-and-cultural-affairs-marie-royce/
LOCATION:University of Liberia\, Capitol Hill\, University of Liberia\, Capitol Hill\, Monrovia\, Montserrado\, LIB\, Liberia
ATTACH;FMTTYPE=image/jpeg:https://ul.edu.lr/wp-content/uploads/2019/06/1.jpg
END:VEVENT
END:VCALENDAR