BEGIN:VCALENDAR
VERSION:2.0
PRODID:-//University of Liberia - ECPv5.8.1//NONSGML v1.0//EN
CALSCALE:GREGORIAN
METHOD:PUBLISH
X-WR-CALNAME:University of Liberia
X-ORIGINAL-URL:https://ul.edu.lr
X-WR-CALDESC:Events for University of Liberia
BEGIN:VTIMEZONE
TZID:UTC
BEGIN:STANDARD
TZOFFSETFROM:+0000
TZOFFSETTO:+0000
TZNAME:UTC
DTSTART:20190101T000000
END:STANDARD
END:VTIMEZONE
BEGIN:VEVENT
DTSTART;VALUE=DATE:20190613
DTEND;VALUE=DATE:20190614
DTSTAMP:20210817T124948
CREATED:20190613T162446Z
LAST-MODIFIED:20190613T162446Z
UID:12581-1560384000-1560470399@ul.edu.lr
SUMMARY:Invitation to Attend UL Health Sciences Centennial Program
DESCRIPTION:
URL:https://ul.edu.lr/event/invitation-to-attend-ul-health-sciences-centennial-program/
LOCATION:AM Dogliotti Campus\, Catholic Junction\, Congo Town\, Liberia
ATTACH;FMTTYPE=image/jpeg:https://ul.edu.lr/wp-content/uploads/2019/06/UL-Health-Sciences-Program-Banner.jpg
END:VEVENT
END:VCALENDAR