BEGIN:VCALENDAR
VERSION:2.0
PRODID:-//University of Liberia - ECPv5.8.1//NONSGML v1.0//EN
CALSCALE:GREGORIAN
METHOD:PUBLISH
X-WR-CALNAME:University of Liberia
X-ORIGINAL-URL:https://ul.edu.lr
X-WR-CALDESC:Events for University of Liberia
BEGIN:VTIMEZONE
TZID:UTC
BEGIN:STANDARD
TZOFFSETFROM:+0000
TZOFFSETTO:+0000
TZNAME:UTC
DTSTART:20190101T000000
END:STANDARD
END:VTIMEZONE
BEGIN:VEVENT
DTSTART;TZID=UTC:20190718T110000
DTEND;TZID=UTC:20190718T133000
DTSTAMP:20210817T125358
CREATED:20190717T151910Z
LAST-MODIFIED:20190718T060902Z
UID:12809-1563447600-1563456600@ul.edu.lr
SUMMARY:LUX TALK on Capitol Hill
DESCRIPTION:
URL:https://ul.edu.lr/event/lux-talk-on-capitol-hill/
ATTACH;FMTTYPE=image/jpeg:https://ul.edu.lr/wp-content/uploads/2019/07/LUX-TALK-INVITATION-BANNER.jpg
ORGANIZER;CN="LUX%20TALK":MAILTO:info@ul.edu.lr
END:VEVENT
END:VCALENDAR